BEGIN:VCALENDAR
VERSION:2.0
PRODID:-//ChamberMaster//Event Calendar 2.0//EN
METHOD:PUBLISH
X-PUBLISHED-TTL:P3D
REFRESH-INTERVAL:P3D
CALSCALE:GREGORIAN
BEGIN:VEVENT
DTSTART:20101019T153000Z
DTEND:20101019T163000Z
X-MICROSOFT-CDO-ALLDAYEVENT:FALSE
SUMMARY:Workforce Solutions Cameron Open House & Ribbon Cutting
DESCRIPTION:Your invited to attend Open House and Ribbon Cutting.  Workforce Solutions Cameron\, the Workforce Development Board of Cameron County\, manages a system of services that complement workforce and economic development so employers can get the quality employees they need.  Join Executive Director Gaylen Lange\, Board Chair Federico Garza\, Senator Eddie Lucio\, Brownsville Mayor Pat Ahumada\, Harlingen Mayor Chris Boswell and Cameron County Judge Carlos Cascos\, as Workforce Solutions Cameron celebrates the opening of their newly renovated Harlingen facility. Light refreshments will be served.
X-ALT-DESC;FMTTYPE=text/html:Your invited to attend Open House and Ribbon Cutting.  Workforce Solutions Cameron\, the Workforce Development Board of Cameron County\, manages a system of services that complement workforce and economic development so employers can get the quality employees they need.  Join Executive Director Gaylen Lange\, Board Chair Federico Garza\, Senator Eddie Lucio\, Brownsville Mayor Pat Ahumada\, Harlingen Mayor Chris Boswell and Cameron County Judge Carlos Cascos\, as Workforce Solutions Cameron celebrates the opening of their newly renovated Harlingen facility. Light refreshments will be served. \n
LOCATION:
UID:e.1828.2793
SEQUENCE:3
DTSTAMP:20260421T203331Z
URL:https://business.harlingen.com/events/details/workforce-solutions-cameron-open-house-ribbon-cutting-10-19-2010-2793
END:VEVENT

END:VCALENDAR
