BEGIN:VCALENDAR
VERSION:2.0
PRODID:-//ChamberMaster//Event Calendar 2.0//EN
METHOD:PUBLISH
X-PUBLISHED-TTL:P3D
REFRESH-INTERVAL:P3D
CALSCALE:GREGORIAN
BEGIN:VEVENT
DTSTART:20100828T190000Z
DTEND:20100828T210000Z
X-MICROSOFT-CDO-ALLDAYEVENT:FALSE
SUMMARY:WORKSHOP ON THE LANGUAGE & 8 LIMBS OF YOGA
DESCRIPTION:WORKSHOP ON THE LANGUAGE & 8 LIMBS OF YOGA.  2 Hour YOGA Workshop on Hatha & Raja YOGA and the Language and Philosophy of the Ancient Yogis.  Yoga has been around for at least 5\,000 years.  The yoga we are most familiar with was written by Patanjali many centuries ago.  He wrote "The Yoga Sutras" in Sanskrit\, an exquisite\, academic language from ancient India.   The "sutras" contain an eight step blueprint for creating balance and equanimity so as to live in peace\, good health and harmony.  LEARN MORE ABOUT the Sanskrit Language\, Symbolic Meaning of asanas\, the Sutras of Patanjali\, the Eight Limbs of Yoga\, Mantras & Japa.  COST $25 PER Person.  BRING Yoga Mat\, Zafu.  ARRIVE 15 Minutes Prior to Class.  Reserve Class Space Today!	Visit our website at www.harlingenyogacenter.com.
X-ALT-DESC;FMTTYPE=text/html:WORKSHOP ON THE LANGUAGE & 8 LIMBS OF YOGA.  2 Hour YOGA Workshop on Hatha & Raja YOGA and the Language and Philosophy of the Ancient Yogis.  Yoga has been around for at least 5\,000 years.  The yoga we are most familiar with was written by Patanjali many centuries ago.  He wrote "The Yoga Sutras" in Sanskrit\, an exquisite\, academic language from ancient India.   The "sutras" contain an eight step blueprint for creating balance and equanimity so as to live in peace\, good health and harmony.  LEARN MORE ABOUT the Sanskrit Language\, Symbolic Meaning of asanas\, the Sutras of Patanjali\, the Eight Limbs of Yoga\, Mantras & Japa.  COST $25 PER Person.  BRING Yoga Mat\, Zafu.  ARRIVE 15 Minutes Prior to Class.  Reserve Class Space Today!	Visit our website at www.harlingenyogacenter.com.\n
LOCATION:
UID:e.1828.2660
SEQUENCE:3
DTSTAMP:20260422T015451Z
URL:https://business.harlingen.com/events/details/workshop-on-the-language-8-limbs-of-yoga-08-28-2010-2660
END:VEVENT

END:VCALENDAR
