BEGIN:VCALENDAR
VERSION:2.0
PRODID:-//ChamberMaster//Event Calendar 2.0//EN
METHOD:PUBLISH
X-PUBLISHED-TTL:P3D
REFRESH-INTERVAL:P3D
CALSCALE:GREGORIAN
BEGIN:VEVENT
DTSTART:20111026T223000Z
DTEND:20111027T020000Z
X-MICROSOFT-CDO-ALLDAYEVENT:FALSE
SUMMARY:Xavier's Hair Salon " Ladies Night Out"
DESCRIPTION:Door Prizes!  Finger Food & Wine! Get Ready for Halloween and Have Fun!!! Latest Fads\, Feather Hair Design! Munchies Compliments of: Campos Sales & Marketing\, Specialty Items from: Simply Elegant & Thirty-One\, Christine Elliott.
X-ALT-DESC;FMTTYPE=text/html:Door Prizes!  Finger Food & Wine! Get Ready for Halloween and Have Fun!!! Latest Fads\, Feather Hair Design! Munchies Compliments of: Campos Sales & Marketing\, Specialty Items from: Simply Elegant & Thirty-One\, Christine Elliott.\n
LOCATION:
UID:e.1828.3186
SEQUENCE:3
DTSTAMP:20260421T021609Z
URL:https://business.harlingen.com/events/details/xavier-s-hair-salon-ladies-night-out-10-26-2011-3186
END:VEVENT

END:VCALENDAR
