BEGIN:VCALENDAR
VERSION:2.0
PRODID:-//ChamberMaster//Event Calendar 2.0//EN
METHOD:PUBLISH
X-PUBLISHED-TTL:P3D
REFRESH-INTERVAL:P3D
CALSCALE:GREGORIAN
BEGIN:VEVENT
DTSTART:20110313T180000Z
DTEND:20110313T180000Z
X-MICROSOFT-CDO-ALLDAYEVENT:FALSE
SUMMARY:ZOEFEST Presents Israel Houghton & New Breed
DESCRIPTION:ZOEFEST Presents Israel Houghton & New Breed\n\nHarlingen Whitewings Stadium\nZOEFEST starts @ 1pm\, gates open @ 4pm\, & concert starts @ 5pm. Bring your friends and family to this all day festival! Lots of food\, games\, & flag football with opening bands Taken By and Shake The Nation. For ticket outlets call 956-778-8635 or 956-778-8445. For more info visit ZOEFESTRGV.com to view event.
X-ALT-DESC;FMTTYPE=text/html:ZOEFEST Presents Israel Houghton & New Breed\n\nHarlingen Whitewings Stadium\nZOEFEST starts @ 1pm\, gates open @ 4pm\, & concert starts @ 5pm. Bring your friends and family to this all day festival! Lots of food\, games\, & flag football with opening bands Taken By and Shake The Nation. For ticket outlets call 956-778-8635 or 956-778-8445. For more info visit ZOEFESTRGV.com to view event.   \n
LOCATION:Harlingen Whitewings Stadium
UID:e.1828.2982
SEQUENCE:3
DTSTAMP:20260421T140617Z
URL:https://business.harlingen.com/events/details/zoefest-presents-israel-houghton-new-breed-03-13-2011-2982
END:VEVENT

END:VCALENDAR
