BEGIN:VCALENDAR
VERSION:2.0
PRODID:-//ChamberMaster//Event Calendar 2.0//EN
METHOD:PUBLISH
X-PUBLISHED-TTL:P3D
REFRESH-INTERVAL:P3D
CALSCALE:GREGORIAN
BEGIN:VEVENT
DTSTART:20120623T140000Z
DTEND:20120623T160000Z
X-MICROSOFT-CDO-ALLDAYEVENT:FALSE
SUMMARY:Zumba in th Park
DESCRIPTION:For information call City of Harlingen\, Parks & Recreation Dept. Esmeralda Martinez 956-216-5950 or e-mail emartinez@myharlingen.us
X-ALT-DESC;FMTTYPE=text/html:For information call City of Harlingen\, Parks & Recreation Dept. Esmeralda Martinez 956-216-5950 or e-mail emartinez@myharlingen.us
LOCATION:
UID:e.1828.3583
SEQUENCE:3
DTSTAMP:20260420T131502Z
URL:https://business.harlingen.com/events/details/zumba-in-th-park-06-23-2012-3583
END:VEVENT

END:VCALENDAR
